BEGIN:VCALENDAR
VERSION:2.0
PRODID:icalendar-ruby
CALSCALE:GREGORIAN
METHOD:PUBLISH
BEGIN:VEVENT
DTSTAMP:20260419T221106Z
UID:29-215920@lamsonroad.church
DTSTART:20260712T140000Z
DTEND:20260712T150000Z
CLASS:PUBLIC
CREATED:20260419T154809
DESCRIPTION:A brief time of singing\, followed by an applicable\, scripture
 -based message. Learn more here.
LAST-MODIFIED:20260419T154809
LOCATION:
SUMMARY:Main Service
URL;VALUE=URI:https://www.lamsonroad.church/events/main-service--29/2026-07
 -12
ATTACH;FILENAME=Copy-of-NEW-SERVICE-TIME.jpg;FMTTYPE=image/jpeg:https://dq5
 pwpg1q8ru0.cloudfront.net/2025/06/03/13/25/47/491bfbff-7c04-4bf6-8e5d-397e
 e36fe7f1/Copy-of-NEW-SERVICE-TIME.jpg
END:VEVENT
END:VCALENDAR
