BEGIN:VCALENDAR
VERSION:2.0
PRODID:icalendar-ruby
CALSCALE:GREGORIAN
METHOD:PUBLISH
BEGIN:VEVENT
DTSTAMP:20260421T015355Z
UID:33-217121@lamsonroad.church
DTSTART:20260614T153000Z
DTEND:20260614T163000Z
CLASS:PUBLIC
CREATED:20260420T203413
DESCRIPTION:A fun\, short\, casual service designed to increase community a
 nd foster connection. Perfect for the whole family.
LAST-MODIFIED:20260420T203413
LOCATION:
SUMMARY:Connection Time
URL;VALUE=URI:https://www.lamsonroad.church/events/connection-time/2026-06-
 14
ATTACH;FILENAME=Connection-Time.jpg;FMTTYPE=image/jpeg:https://dq5pwpg1q8ru
 0.cloudfront.net/2025/08/05/18/45/22/6a310792-390c-41c2-a293-7dad306530a2/
 Connection-Time.jpg
END:VEVENT
END:VCALENDAR
